BEGIN:VCALENDAR
VERSION:2.0
PRODID:icalendar-ruby
CALSCALE:GREGORIAN
METHOD:PUBLISH
BEGIN:VEVENT
DTSTAMP:20260424T044036Z
UID:5-798996@tonasketfmc.org
DTSTART:20261018T173000Z
DTEND:20261019T064500Z
CLASS:PUBLIC
CREATED:20260423T181339
DESCRIPTION:Sunday Worship
LAST-MODIFIED:20260423T181339
LOCATION:TFMC
SUMMARY:Sunday Worship
URL;VALUE=URI:https://www.tonasketfmc.org/events/sunday-worship/2026-10-18
END:VEVENT
END:VCALENDAR
