BEGIN:VCALENDAR
VERSION:2.0
PRODID:icalendar-ruby
CALSCALE:GREGORIAN
METHOD:PUBLISH
BEGIN:VEVENT
DTSTAMP:20260423T231018Z
UID:5-798628@tonasketfmc.org
DTSTART:20260927T173000Z
DTEND:20260928T064500Z
CLASS:PUBLIC
CREATED:20260423T152038
DESCRIPTION:Sunday Worship
LAST-MODIFIED:20260423T152038
LOCATION:TFMC
SUMMARY:Sunday Worship
URL;VALUE=URI:https://www.tonasketfmc.org/events/sunday-worship/2026-09-27
END:VEVENT
END:VCALENDAR
