BEGIN:VCALENDAR
VERSION:2.0
PRODID:icalendar-ruby
CALSCALE:GREGORIAN
METHOD:PUBLISH
BEGIN:VEVENT
DTSTAMP:20260423T212405Z
UID:5-798262@tonasketfmc.org
DTSTART:20260920T173000Z
DTEND:20260921T064500Z
CLASS:PUBLIC
CREATED:20260423T122630
DESCRIPTION:Sunday Worship
LAST-MODIFIED:20260423T122630
LOCATION:TFMC
SUMMARY:Sunday Worship
URL;VALUE=URI:https://www.tonasketfmc.org/events/sunday-worship/2026-09-20
END:VEVENT
END:VCALENDAR
