BEGIN:VCALENDAR
VERSION:2.0
PRODID:icalendar-ruby
CALSCALE:GREGORIAN
METHOD:PUBLISH
BEGIN:VEVENT
DTSTAMP:20260425T135511Z
UID:102-800096@tonasketfmc.org
DTSTART:20260503T000000Z
DTEND:20260503T020000Z
CLASS:PUBLIC
CREATED:20260424T104616
DESCRIPTION:
LAST-MODIFIED:20260424T104616
LOCATION:TFMC
SUMMARY:An Evening of Worship
URL;VALUE=URI:https://www.tonasketfmc.org/events/an-evening-of-worship/2026
 -05-02
ATTACH;FILENAME=eveningofworshipmay2026.png;FMTTYPE=image/png:https://dq5pw
 pg1q8ru0.cloudfront.net/2026/04/24/17/46/16/287c8d82-75fc-42c0-bbfb-811069
 11044d/eveningofworshipmay2026.png
END:VEVENT
END:VCALENDAR
