BEGIN:VCALENDAR
VERSION:2.0
PRODID:icalendar-ruby
CALSCALE:GREGORIAN
METHOD:PUBLISH
BEGIN:VEVENT
DTSTAMP:20260425T135831Z
UID:101-800098@tonasketfmc.org
DTSTART:20260425T160000Z
DTEND:20260425T180000Z
CLASS:PUBLIC
CREATED:20260424T110916
DESCRIPTION:
LAST-MODIFIED:20260424T110916
LOCATION:TFMC
SUMMARY:All Church Breakfast and Workday
URL;VALUE=URI:https://www.tonasketfmc.org/events/all-church-breakfast-and-w
 orkday/2026-04-25
ATTACH;FILENAME=breakfast 1500 by 784.png;FMTTYPE=image/png:https://dq5pwpg
 1q8ru0.cloudfront.net/2026/04/24/18/09/15/9b541b20-ca7a-456c-b2cc-4f514f35
 3965/breakfast%201500%20by%20784.png
END:VEVENT
END:VCALENDAR
